BEGIN:VCALENDAR
VERSION:2.0
PRODID:spatie/icalendar-generator
NAME:accent Events
X-WR-CALNAME:accent Events
BEGIN:VTIMEZONE
TZID:Europe/Vienna
BEGIN:STANDARD
DTSTART:20251026T030000
TZOFFSETFROM:+0200
TZOFFSETTO:+0100
END:STANDARD
BEGIN:DAYLIGHT
DTSTART:20260329T010000
TZOFFSETFROM:+0100
TZOFFSETTO:+0200
END:DAYLIGHT
BEGIN:STANDARD
DTSTART:20261025T030000
TZOFFSETFROM:+0200
TZOFFSETTO:+0100
END:STANDARD
END:VTIMEZONE
BEGIN:VTIMEZONE
TZID:UTC
BEGIN:STANDARD
DTSTART:20250724T102607
TZOFFSETFROM:+0000
TZOFFSETTO:+0000
END:STANDARD
END:VTIMEZONE
BEGIN:VEVENT
UID:aea320ad-c43a-4eca-8d33-e6e7bb5bf665
DTSTAMP:20260420T102607Z
SUMMARY:Bilanzierung von THG-Emissionen in der Unternehmenspraxis-Workshop
DESCRIPTION:
LOCATION:Das Intro | Hauptpl. 26\, 3250 Wieselburg
DTSTART;TZID=Europe/Vienna:20260506T140000
DTEND;TZID=Europe/Vienna:20260506T170000
END:VEVENT
END:VCALENDAR